Workbook

Sheet GWAS
C1: GWAS Affiliations: 2026/27
C2: Affiliation Year from 1 October 2026 to 30 September 2027
C4: Club Name:
C5: Club No.
C6: Return No.
C7: Date affiliations sent to Archery GB:
C9: Note: Membership runs from the date of subscribing (or 1 October 2026, if later) until its anniversary.
C10: Each member's Regional renewal date will match that set by Archery GB.
C12: Start a fresh sequence of consecutive Return numbers for your 2026/27 submissions, please.
C14: Members** Fees | H14: 46296
C15: joining or re-joining between the following dates: | H15: to 30 September 2027
H16: Rate | J16: Number | L16: Amount to Pay
C17: Club Member - Young Person (Under 21) | H17: 2.67 | I17: x | K17: = | L17: =SUM(H17*J17) -> 0
C18: Club Member - Senior (Aged 21 & over) | H18: 8 | I18: x | K18: = | L18: =SUM(H18*J18) -> 0
C19: Club Member - Archers with Disabilities | H19: £ Nil | K19: = | L19: £0.00
C20: University Club* - Undergrad & Postgrad Students | H20: 4 | I20: x | K20: = | L20: =SUM(H20*J20) -> 0
L23: =SUM(L17:L22) -> 0
C24: * University Club fees capped at £200
C25: ** includes long-lapsed, former AGB members
L26: Version 1
A29: 1 | B29: SUBMISSION: You MUST submit these affiliation details electronically, then choose how you are going to make any payment due.
B31: Send this completed form and a copy of your Archery GB invoice (matching the details on this Regional submission)
B32: or a list of archers’ names, AGB Nos. & affiliation category, if an Archery GB invoice is not available (or does not show this information),
B33: by e-mail to subs@gwas.org.
A37: 2 | B37: PAYMENT: Choose how you want to make any payment due. | L37: Choose one of these:
B39: Electronically | C39: (a) Send payment direct into the GWAS bank account: (Preferred) | L39: Electronically
D40: - Account Name: Grand Western Archery Society
D41: - Sort Code: 30 - 12 - 04
D42: - Account No: 01185874
C43: with a description – "2025/26 Affil Rtn No. ….." , or similar
C44: (If payment is being made from other than a Club Account, please add the Club name).
C46: OR | L46: OR
B48: By Post | C48: (b) Send your cheque to: Mr P Callaway, 32 Trefusis Road, REDRUTH, Cornwall TR15 2JH | L48: By Post
C49: Please make the cheque payable to Grand Western Archery Society - written in full, please.
C50: Please add a note on the back of the cheque, showing "Return No….", to help me match up the items.

Sheet GAS
A1: Gloucestershire Archery Society
A3: Affiliation year 1st October to 30 September
A5: Club Name: | B5: =GWAS!D4 -> 0
A6: Club No: | B6: =GWAS!D5 -> 0
A7: Return No: | B7: =GWAS!D6 -> 0
A8: Date affiliations sent to Archery GB: | B8: =GWAS!G7 -> 0
A10: =GWAS!C9 -> Note: Membership runs from the date of subscribing (or 1 October 2026, if later) until its anniversary.
A11: =GWAS!C10 -> Each member's Regional renewal date will match that set by Archery GB.
A13: =GWAS!C14 -> Members** Fees | D13: 1st Oct to 30 Sep (Full Year)
A14: =GWAS!C15 -> joining or re-joining between the following dates:
D15: Rate | F15: Number | H15: Total
A16: Club Member - Young Person (Under 21) | D16: 2 | F16: =GWAS!J17 -> 0 | H16: =D16*F16 -> 0
A17: Club Member - Senior (Aged 21 & over) | D17: 14 | F17: =GWAS!J18 -> 0 | H17: =D17*F17 -> 0
A18: Club Member - Archers with Disabilities | D18: 0 | F18: =GWAS!J19 -> 0 | H18: =D18*F18 -> 0
A19: University Club* - Undergrad & Postgrad Students | D19: 0 | F19: =GWAS!J20 -> 0 | H19: =D19*F19 -> 0
F22: TOTAL DUE | H22: =SUM(H16:H21) -> 0
A25: Send this form by email to treasurer@glosarchery.com
A27: Payments can be made:
B28: Direct to GAS bank account | D28: Account Name: | F28: Gloucestershire Archery Society
D29: Sort Code: | F29: 30-00-01
D30: Account No: | F30: 02123188
D31: Reference - 24/25 Affili Ret No xxx
A33: OR
B34: By Post (cheque payable to Gloucestershire Archery Society) send to:
B36: Mrs F Hawker, 1 Northwick Gardens, Bishop Sutton, BS39 5XS

Sheet Ret info
A1: RETURN No
A3: Name | B3: Amnt | D3: Type | E3: Renew/New
A4: Item Quantity Unit Cost Total Cost

Sheet Sheet1
